BEGIN:VCALENDAR
CALSCALE:GREGORIAN
X-WR-TIMEZONE;VALUE=TEXT:GMT
PRODID:PEAK Corporation - piCal -
X-WR-CALNAME;VALUE=TEXT:[談話会]　第175回談話会、第13回総会
VERSION:2.0
METHOD:PUBLISH
BEGIN:VTIMEZONE
TZID:GMT
BEGIN:STANDARD
DTSTART:19390101T000000
TZOFFSETFROM:+0000
TZOFFSETTO:+0000
TZNAME:GMT
END:STANDARD
END:VTIMEZONE
BEGIN:VEVENT
DTSTART:20250330T040000Z
DTEND:20250330T075500Z
LOCATION:大阪市立自然史博物館集会室（Zoomミーティングによるハイブリッド方式）
TRANSP:OPAQUE
SEQUENCE:7
UID:pical060-68c007cb162585812df3d2a26ebed5b7
DTSTAMP:20251106T143009Z
CATEGORIES:
DESCRIPTION:[談話会]　第175回談話会、第13回総会\n\nハイブリッド方式で開催します。\n\n通常通りの開催に加えて、オンライン（Zoom形式）でも開催されます。\n\n参加方法は、以前のように会場へ行くか、Zoom参加になります。いずれにしろ、松田氏へご連絡ください。\n\n予定されている内容\<a href="nhttps://www.kansai-tombo.org/modules/bulletin/index.php?page=article&amp;storyid=37" rel="external">nhttps://www.kansai-tombo.org/modules/bulletin/index.php?page=article&amp;storyid=37</a>\n\nZoom参加については、本会会員は、連絡誌に記載された専用IDとパスワードで本HPにログインすると、会員だけが閲覧できる情報にアクセスできます。そこにZoomミーティングの招待状を掲載しておきます。招待状の中に記載してあるURL（会議番号とパスワードが含まれている）をクリックすると参加できます。\n\nZoom招待状（ログイン必要）\<a href="nhttps://www.kansai-tombo.org/modules/d3forum/index.php?topic_id=15#post_id33" rel="external">nhttps://www.kansai-tombo.org/modules/d3forum/index.php?topic_id=15#post_id33</a>\nです。\n\nこれまでの談話会のように、関西トンボ談話会やトンボに興味のある方は、どなたでも視聴可能です。そのような非会員の方は、松田氏のメールアドレス（matsudaiアットマークkcn.ne.jp）に「関西トンボ談話会に参加希望」というタイトルと本文のメールを送ってください。Zoomミーティングの招待状が返信されます。会員外の方は、オブザーバー参加ですが、ほぼ会員と同様に視聴できます。\n\n会員のIDとパスワードをお忘れの参加希望の会員の方も松田氏にご連絡ください。\n\nまた、話題提供等の予定がありましたら、タイトルと発表者氏名などを松田氏宛にメールでお知らせ下さい。
SUMMARY:[談話会]　第175回談話会、第13回総会
PRIORITY:0
CLASS:PUBLIC
END:VEVENT
END:VCALENDAR
