BEGIN:VCALENDAR
CALSCALE:GREGORIAN
X-WR-TIMEZONE;VALUE=TEXT:GMT
PRODID:PEAK Corporation - piCal -
X-WR-CALNAME;VALUE=TEXT:第25回全国トンボ市民サミット御在所岳大会
VERSION:2.0
METHOD:PUBLISH
BEGIN:VTIMEZONE
TZID:GMT
BEGIN:STANDARD
DTSTART:19390101T000000
TZOFFSETFROM:+0000
TZOFFSETTO:+0000
TZNAME:GMT
END:STANDARD
END:VTIMEZONE
BEGIN:VEVENT
DTSTART;VALUE=DATE:20140726
DTEND;VALUE=DATE:20140728
LOCATION:御在所岳
TRANSP:OPAQUE
SEQUENCE:1
UID:pical060-b21b1c3ec7a403a9fd76104c13ef68ae
DTSTAMP:20140313T023347Z
CATEGORIES:
DESCRIPTION:第25回全国トンボ市民サミット御在所岳大会は、三重県で開催され、実行委員長は石田昇三氏です。\n
SUMMARY:第25回全国トンボ市民サミット御在所岳大会
PRIORITY:0
CLASS:PUBLIC
END:VEVENT
END:VCALENDAR
