BEGIN:VCALENDAR
CALSCALE:GREGORIAN
X-WR-TIMEZONE;VALUE=TEXT:GMT
PRODID:PEAK Corporation - piCal -
X-WR-CALNAME;VALUE=TEXT:[調査会]　第19回トンボつり大会
VERSION:2.0
METHOD:PUBLISH
BEGIN:VTIMEZONE
TZID:GMT
BEGIN:STANDARD
DTSTART:19390101T000000
TZOFFSETFROM:+0000
TZOFFSETTO:+0000
TZNAME:GMT
END:STANDARD
END:VTIMEZONE
BEGIN:VEVENT
DTSTART:20140705T075000Z
DTEND:20140705T100000Z
LOCATION:堺市鉢ケ峯
TRANSP:OPAQUE
SEQUENCE:1
UID:pical060-5e2971788c5ebe29fdac6620ca34bb18
DTSTAMP:20140313T015134Z
CATEGORIES:
DESCRIPTION:ヤブヤンマなどのヤンマ類を伝統的な「ブリ」という手法で捕獲します。初心者には手ほどきしますので、どんどんご参加ください。\n\n7/5（土）が悪天候なら、予備日12日（土）に開催します。\n\n集合：16:50に南海バス「公園墓地北口」バス停。自家用車は不要です。\n\nトンボに興味があれば、会員でなくても参加できます。\n
SUMMARY:[調査会]　第19回トンボつり大会
PRIORITY:0
CLASS:PUBLIC
END:VEVENT
END:VCALENDAR
