BEGIN:VCALENDAR
CALSCALE:GREGORIAN
X-WR-TIMEZONE;VALUE=TEXT:GMT
PRODID:PEAK Corporation - piCal -
X-WR-CALNAME;VALUE=TEXT:[調査会]　城北公園のワンド，淀川 ヒヌマイトトンボ，メガネサナエなど
VERSION:2.0
METHOD:PUBLISH
BEGIN:VTIMEZONE
TZID:GMT
BEGIN:STANDARD
DTSTART:19390101T000000
TZOFFSETFROM:+0000
TZOFFSETTO:+0000
TZNAME:GMT
END:STANDARD
END:VTIMEZONE
BEGIN:VEVENT
DTSTART:20140629T003000Z
DTEND:20140629T070000Z
LOCATION:城北公園ワンド・西中島（淀川河川敷）
TRANSP:OPAQUE
SEQUENCE:3
UID:pical060-720990cb0487d8af016a5a209faf03be
DTSTAMP:20140313T011936Z
CATEGORIES:
DESCRIPTION:午前中は城北公園北のワンド群でメガネサナエなどトンボ類を調査し、午後は西中島の淀川河川敷でヒヌマイトトンボの生息状況を確認します。\n\n集合：9:30に「城北公園」バス停。自家用車は不要です。\n\nトンボに興味があれば、会員でなくても参加できます。\n
SUMMARY:[調査会]　城北公園のワンド，淀川 ヒヌマイトトンボ，メガネサナエなど
PRIORITY:0
CLASS:PUBLIC
END:VEVENT
END:VCALENDAR
