BEGIN:VCALENDAR
CALSCALE:GREGORIAN
X-WR-TIMEZONE;VALUE=TEXT:GMT
PRODID:PEAK Corporation - piCal -
X-WR-CALNAME;VALUE=TEXT:関西トンボ談話会 第148回談話会、懇親会
VERSION:2.0
METHOD:PUBLISH
BEGIN:VTIMEZONE
TZID:GMT
BEGIN:STANDARD
DTSTART:19390101T000000
TZOFFSETFROM:+0000
TZOFFSETTO:+0000
TZNAME:GMT
END:STANDARD
END:VTIMEZONE
BEGIN:VEVENT
DTSTART:20131201T010000Z
DTEND:20131201T080000Z
LOCATION:大阪市立自然史博物館集会室
TRANSP:OPAQUE
SEQUENCE:0
UID:pical060-a3b46d32bb0e40db79de2c16a7ad5d02
DTSTAMP:20131129T020949Z
CATEGORIES:
DESCRIPTION:
SUMMARY:関西トンボ談話会 第148回談話会、懇親会
PRIORITY:0
CLASS:PUBLIC
END:VEVENT
END:VCALENDAR
