BEGIN:VCALENDAR
CALSCALE:GREGORIAN
X-WR-TIMEZONE;VALUE=TEXT:GMT
PRODID:PEAK Corporation - piCal -
X-WR-CALNAME;VALUE=TEXT:[談話会]　第150回談話会、総会
VERSION:2.0
METHOD:PUBLISH
BEGIN:VTIMEZONE
TZID:GMT
BEGIN:STANDARD
DTSTART:19390101T000000
TZOFFSETFROM:+0000
TZOFFSETTO:+0000
TZNAME:GMT
END:STANDARD
END:VTIMEZONE
BEGIN:VEVENT
DTSTART:20140323T010000Z
DTEND:20140323T080000Z
LOCATION:大阪市立自然史博物館　集会室
TRANSP:OPAQUE
SEQUENCE:6
UID:pical060-3e00dd972de18df2d4446dc069a43fbf
DTSTAMP:20140315T020027Z
CATEGORIES:
DESCRIPTION:第150回談話会と総会も開催します。\n\n出席できない会員は、委任状（メール、ハガキ等の連絡）を松田　勲氏までご提出ください。委任状を提出（連絡）後に出席できるようになれば、もちろん出席していただくことは大歓迎です。\n\nトンボの最新情報が入手できますので、興味をもっておられる非会員の方も参加できます。総会はオブザーバー扱いになります。\n\n参加される方は、大阪市立自然史博物館の南側通用口から入館してください。\n
SUMMARY:[談話会]　第150回談話会、総会
PRIORITY:0
CLASS:PUBLIC
END:VEVENT
END:VCALENDAR
