BEGIN:VCALENDAR
CALSCALE:GREGORIAN
X-WR-TIMEZONE;VALUE=TEXT:GMT
PRODID:PEAK Corporation - piCal -
X-WR-CALNAME;VALUE=TEXT:関西トンボ談話会 第149回談話会
VERSION:2.0
METHOD:PUBLISH
BEGIN:VTIMEZONE
TZID:GMT
BEGIN:STANDARD
DTSTART:19390101T000000
TZOFFSETFROM:+0000
TZOFFSETTO:+0000
TZNAME:GMT
END:STANDARD
END:VTIMEZONE
BEGIN:VEVENT
DTSTART:20140202T010000Z
DTEND:20140202T080000Z
LOCATION:大阪市立自然史博物館集会室
TRANSP:OPAQUE
SEQUENCE:0
UID:pical060-58ddfe8d6d2558ddb66e02b1fc300970
DTSTAMP:20131128T043803Z
CATEGORIES:
DESCRIPTION:
SUMMARY:関西トンボ談話会 第149回談話会
PRIORITY:0
CLASS:PUBLIC
END:VEVENT
END:VCALENDAR
