BEGIN:VCALENDAR
CALSCALE:GREGORIAN
X-WR-TIMEZONE;VALUE=TEXT:GMT
PRODID:PEAK Corporation - piCal -
X-WR-CALNAME;VALUE=TEXT:蜻蛉研究会第40回総会、第18回研究発表会
VERSION:2.0
METHOD:PUBLISH
BEGIN:VTIMEZONE
TZID:GMT
BEGIN:STANDARD
DTSTART:19390101T000000
TZOFFSETFROM:+0000
TZOFFSETTO:+0000
TZNAME:GMT
END:STANDARD
END:VTIMEZONE
BEGIN:VEVENT
DTSTART;VALUE=DATE:20140112
DTEND;VALUE=DATE:20140113
LOCATION:名古屋市
TRANSP:OPAQUE
SEQUENCE:0
UID:pical060-070c8ebd084bd46a1165308264035f72
DTSTAMP:20131128T043425Z
CATEGORIES:
DESCRIPTION:
SUMMARY:蜻蛉研究会第40回総会、第18回研究発表会
PRIORITY:0
CLASS:PUBLIC
END:VEVENT
END:VCALENDAR
