BEGIN:VCALENDAR
CALSCALE:GREGORIAN
X-WR-TIMEZONE;VALUE=TEXT:GMT
PRODID:PEAK Corporation - piCal -
X-WR-CALNAME;VALUE=TEXT:総会（予定）
VERSION:2.0
METHOD:PUBLISH
BEGIN:VTIMEZONE
TZID:GMT
BEGIN:STANDARD
DTSTART:19390101T000000
TZOFFSETFROM:+0000
TZOFFSETTO:+0000
TZNAME:GMT
END:STANDARD
END:VTIMEZONE
BEGIN:VEVENT
DTSTART:20130324T010000Z
DTEND:20130324T073000Z
LOCATION:大阪市立自然史博物館　集会室
TRANSP:OPAQUE
SEQUENCE:0
UID:pical060-5c6f9f144c5853ef35e92ddd5be7f4dd
DTSTAMP:20130127T072059Z
CATEGORIES:
DESCRIPTION:総会の予定です。
SUMMARY:総会（予定）
PRIORITY:0
CLASS:PUBLIC
END:VEVENT
END:VCALENDAR
